BEGIN:VCALENDAR
VERSION:2.0
PRODID:-//UNIVPM//Evento Giulio Regeni//IT
BEGIN:VEVENT
UID:giulio-regeni-20260513@univpm.it
DTSTAMP:20260417T120000Z
DTSTART:20260513T123000Z
DTEND:20260513T143000Z
SUMMARY:Le Università per Giulio Regeni – Proiezione e dibattito
LOCATION:Aula Magna di Ateneo - Polo Monte Dago, Via Brecce Bianche 12, Ancona

DESCRIPTION:Proiezione del docu-film "Giulio Regeni – Tutto il male del mondo" seguita da dibattito sulla libertà di studio e ricerca.\n\nCome arrivare:\nhttps://www.google.com/maps/dir/?api=1&destination=Via+Brecce+Bianche+12,+Ancona

BEGIN:VALARM
TRIGGER:-P1D
ACTION:DISPLAY
DESCRIPTION:Promemoria: evento domani
END:VALARM

BEGIN:VALARM
TRIGGER:-PT2H
ACTION:DISPLAY
DESCRIPTION:Promemoria: evento tra 2 ore (calcola il percorso)
END:VALARM

END:VEVENT
END:VCALENDAR